BEGIN:VCALENDAR
VERSION:2.0
PRODID:-//Historischer Verein Landkreis Ha&szlig;berge e.V. - ECPv6.15.20//NONSGML v1.0//EN
CALSCALE:GREGORIAN
METHOD:PUBLISH
X-ORIGINAL-URL:https://www.historischervereinlandkreishassberge.de
X-WR-CALDESC:Veranstaltungen für Historischer Verein Landkreis Ha&szlig;berge e.V.
REFRESH-INTERVAL;VALUE=DURATION:PT1H
X-Robots-Tag:noindex
X-PUBLISHED-TTL:PT1H
BEGIN:VTIMEZONE
TZID:Europe/Berlin
BEGIN:DAYLIGHT
TZOFFSETFROM:+0100
TZOFFSETTO:+0200
TZNAME:CEST
DTSTART:20230326T010000
END:DAYLIGHT
BEGIN:STANDARD
TZOFFSETFROM:+0200
TZOFFSETTO:+0100
TZNAME:CET
DTSTART:20231029T010000
END:STANDARD
BEGIN:DAYLIGHT
TZOFFSETFROM:+0100
TZOFFSETTO:+0200
TZNAME:CEST
DTSTART:20240331T010000
END:DAYLIGHT
BEGIN:STANDARD
TZOFFSETFROM:+0200
TZOFFSETTO:+0100
TZNAME:CET
DTSTART:20241027T010000
END:STANDARD
BEGIN:DAYLIGHT
TZOFFSETFROM:+0100
TZOFFSETTO:+0200
TZNAME:CEST
DTSTART:20250330T010000
END:DAYLIGHT
BEGIN:STANDARD
TZOFFSETFROM:+0200
TZOFFSETTO:+0100
TZNAME:CET
DTSTART:20251026T010000
END:STANDARD
END:VTIMEZONE
BEGIN:VEVENT
DTSTART;TZID=Europe/Berlin:20240411T180000
DTEND;TZID=Europe/Berlin:20240411T190000
DTSTAMP:20260425T212840
CREATED:20240317T082219Z
LAST-MODIFIED:20240406T174432Z
UID:361-1712858400-1712862000@www.historischervereinlandkreishassberge.de
SUMMARY:Vortrag: Die Kirche St. Andreas in Wonfurt und ihr Architekt Bernhard Morell
DESCRIPTION:Die 1817/20 errichtete Kirche St. Andreas gehört zu den interessantesten klassizistischen Kirchenbauten in Unterfranken. Mit ihrem aus Zylinder und Halbkugel bestehenden Innenraum\, der durch ein Oberlicht erhellt wird\, greift sie die Form des römischen Pantheon auf. Ihr Architekt\, der gebürtige Schweizer Bernhard Morell\, war allerdings eine schillernde Persönlichkeit: Hoher künstlerischer Anspruch einerseits und ständige Auseinandersetzungen mit Vorgesetzten\, Bauherren und ausführenden Handwerkern andererseits führten dazu\, dass er nur etwa fünf Jahre in Unterfranken wirkte und ein schmales\, aber bemerkenswertes Gesamtwerk hinterließ.
URL:https://www.historischervereinlandkreishassberge.de/event/test/
LOCATION:Wonfurt\, Eingang der Kirche St. Andreas\, Hauptstraße 47\, Wonfurt\, 97539
ORGANIZER;CN="Dr. Johannes Sander":MAILTO:michael.g.uni@gmx.de
END:VEVENT
BEGIN:VEVENT
DTSTART;TZID=Europe/Berlin:20240424T150000
DTEND;TZID=Europe/Berlin:20240424T173000
DTSTAMP:20260425T212840
CREATED:20240406T174901Z
LAST-MODIFIED:20240406T174941Z
UID:403-1713970800-1713979800@www.historischervereinlandkreishassberge.de
SUMMARY:Exkursionswanderung: Führung in der Schleuse Ottendorf mit anschließender kleiner Rundwanderung in Ottendorf
DESCRIPTION:Wir treffen uns an der Schleuse Ottendorf. Dort werden wir die Schleusenanlage besichtigen und erklärt bekommen. Dauer: ca. 1 Std. Im Anschluss geht es per PKW in den Ort Ottendorf. Treffpunkt ist ab 16:30 Uhr vor der Kirche. Von hier aus starten wir eine kleine Rundwanderung mit dem Wanderwart Udo Rhein. Dauer: ca. 1 Std. Mitglieder: kostenfrei\, Nichtmitglieder: gegen Spende
URL:https://www.historischervereinlandkreishassberge.de/event/exkursionswanderung-fuehrung-in-der-schleuse-ottendorf-mit-anschliessender-kleiner-rundwanderung-in-ottendorf/
LOCATION:Schleuse Ottendorf\, Wasserkraftwerk 1\, Ottendorf\, 97503
END:VEVENT
END:VCALENDAR