BEGIN:VCALENDAR
VERSION:2.0
PRODID:-//Historischer Verein Landkreis Ha&szlig;berge e.V. - ECPv6.15.20//NONSGML v1.0//EN
CALSCALE:GREGORIAN
METHOD:PUBLISH
X-ORIGINAL-URL:https://www.historischervereinlandkreishassberge.de
X-WR-CALDESC:Veranstaltungen für Historischer Verein Landkreis Ha&szlig;berge e.V.
REFRESH-INTERVAL;VALUE=DURATION:PT1H
X-Robots-Tag:noindex
X-PUBLISHED-TTL:PT1H
BEGIN:VTIMEZONE
TZID:Europe/Berlin
BEGIN:DAYLIGHT
TZOFFSETFROM:+0100
TZOFFSETTO:+0200
TZNAME:CEST
DTSTART:20230326T010000
END:DAYLIGHT
BEGIN:STANDARD
TZOFFSETFROM:+0200
TZOFFSETTO:+0100
TZNAME:CET
DTSTART:20231029T010000
END:STANDARD
BEGIN:DAYLIGHT
TZOFFSETFROM:+0100
TZOFFSETTO:+0200
TZNAME:CEST
DTSTART:20240331T010000
END:DAYLIGHT
BEGIN:STANDARD
TZOFFSETFROM:+0200
TZOFFSETTO:+0100
TZNAME:CET
DTSTART:20241027T010000
END:STANDARD
BEGIN:DAYLIGHT
TZOFFSETFROM:+0100
TZOFFSETTO:+0200
TZNAME:CEST
DTSTART:20250330T010000
END:DAYLIGHT
BEGIN:STANDARD
TZOFFSETFROM:+0200
TZOFFSETTO:+0100
TZNAME:CET
DTSTART:20251026T010000
END:STANDARD
END:VTIMEZONE
BEGIN:VEVENT
DTSTART;TZID=Europe/Berlin:20241004T140000
DTEND;TZID=Europe/Berlin:20241004T170000
DTSTAMP:20260425T133027
CREATED:20240926T153452Z
LAST-MODIFIED:20240926T153452Z
UID:500-1728050400-1728061200@www.historischervereinlandkreishassberge.de
SUMMARY:45. Haßfurter Straßenfest
DESCRIPTION:Wie in den Jahren davor\, wird der Historische Verein auch 2024 auf dem Straßenfest mit einem Stand vertreten sein. Die anwesenden Vereinsmitglieder informieren die Standbesucher über den Verein und seine Aktivitäten\, beantworten Fragen zu historischen Themen und bieten die vom Verein herausgegebenen Bücher und Hefte zu unterschiedlichen Facetten der Geschichte aus dem Bereich des Landkreises zum Verkauf an.
URL:https://www.historischervereinlandkreishassberge.de/event/45-hassfurter-strassenfest/
LOCATION:Haßfurt Innenstadt\, Haupstraße\, Haßfurt\, BY\, 97437\, Germany
END:VEVENT
BEGIN:VEVENT
DTSTART;TZID=Europe/Berlin:20241005T000000
DTEND;TZID=Europe/Berlin:20241005T235959
DTSTAMP:20260425T133027
CREATED:20240912T151800Z
LAST-MODIFIED:20240912T151844Z
UID:487-1728086400-1728172799@www.historischervereinlandkreishassberge.de
SUMMARY:94. Bundestag des Frankenbundes
DESCRIPTION:Zum Bundestag sind alle Mitglieder des Frankenbundes herzlich eingeladen. Diesmal trifft sich der Gesamtbund auf Schloss Gaibach. Festakt mit Verleihung des Kulturpreises des Frankenbunds.\nNäheres entnehmen Sie bitte der Zeitschrift FRANKENLAND.
URL:https://www.historischervereinlandkreishassberge.de/event/94-bundestag-des-frankenbundes/
LOCATION:Schloß Gaibach\, Schönbornstraße 2\, Gaibach\, 97332
END:VEVENT
BEGIN:VEVENT
DTSTART;TZID=Europe/Berlin:20241005T120000
DTEND;TZID=Europe/Berlin:20241005T150000
DTSTAMP:20260425T133027
CREATED:20240926T153607Z
LAST-MODIFIED:20240926T153607Z
UID:505-1728129600-1728140400@www.historischervereinlandkreishassberge.de
SUMMARY:45. Haßfurter Straßenfest
DESCRIPTION:Wie in den Jahren davor\, wird der Historische Verein auch 2024 auf dem Straßenfest mit einem Stand vertreten sein. Die anwesenden Vereinsmitglieder informieren die Standbesucher über den Verein und seine Aktivitäten\, beantworten Fragen zu historischen Themen und bieten die vom Verein herausgegebenen Bücher und Hefte zu unterschiedlichen Facetten der Geschichte aus dem Bereich des Landkreises zum Verkauf an.
URL:https://www.historischervereinlandkreishassberge.de/event/45-hassfurter-strassenfest-2/
LOCATION:Haßfurt Innenstadt\, Haupstraße\, Haßfurt\, BY\, 97437\, Germany
END:VEVENT
END:VCALENDAR