BEGIN:VCALENDAR
VERSION:2.0
PRODID:-//Historischer Verein Landkreis Ha&szlig;berge e.V. - ECPv6.15.20//NONSGML v1.0//EN
CALSCALE:GREGORIAN
METHOD:PUBLISH
X-WR-CALNAME:Historischer Verein Landkreis Ha&szlig;berge e.V.
X-ORIGINAL-URL:https://www.historischervereinlandkreishassberge.de
X-WR-CALDESC:Veranstaltungen für Historischer Verein Landkreis Ha&szlig;berge e.V.
REFRESH-INTERVAL;VALUE=DURATION:PT1H
X-Robots-Tag:noindex
X-PUBLISHED-TTL:PT1H
BEGIN:VTIMEZONE
TZID:Europe/Berlin
BEGIN:DAYLIGHT
TZOFFSETFROM:+0100
TZOFFSETTO:+0200
TZNAME:CEST
DTSTART:20240331T010000
END:DAYLIGHT
BEGIN:STANDARD
TZOFFSETFROM:+0200
TZOFFSETTO:+0100
TZNAME:CET
DTSTART:20241027T010000
END:STANDARD
BEGIN:DAYLIGHT
TZOFFSETFROM:+0100
TZOFFSETTO:+0200
TZNAME:CEST
DTSTART:20250330T010000
END:DAYLIGHT
BEGIN:STANDARD
TZOFFSETFROM:+0200
TZOFFSETTO:+0100
TZNAME:CET
DTSTART:20251026T010000
END:STANDARD
BEGIN:DAYLIGHT
TZOFFSETFROM:+0100
TZOFFSETTO:+0200
TZNAME:CEST
DTSTART:20260329T010000
END:DAYLIGHT
BEGIN:STANDARD
TZOFFSETFROM:+0200
TZOFFSETTO:+0100
TZNAME:CET
DTSTART:20261025T010000
END:STANDARD
END:VTIMEZONE
BEGIN:VEVENT
DTSTART;TZID=Europe/Berlin:20250410T190000
DTEND;TZID=Europe/Berlin:20250410T200000
DTSTAMP:20260425T051309
CREATED:20250320T170710Z
LAST-MODIFIED:20250320T170710Z
UID:585-1744311600-1744315200@www.historischervereinlandkreishassberge.de
SUMMARY:Vortrag: Das Kriegsende 1945 in Zeil am Main (Externe Veranstaltung)
DESCRIPTION:Am Donnerstag\, 10. April\, lädt der Stadtgeschichtliche Arbeitskreis Zeil um 19 Uhr zu einem besonderen Vortrag ins Rudolf-Winkler-Haus ein. Historiker Christoph Winkler beleuchtet die Jahre rund ums Kriegsende in unserer Region. Die Besetzung durch US-amerikanische Truppen im April 1945 markierte einen tiefen Einschnitt in die Stadtgeschichte – Zeil hat in dieser Zeit stark gelitten. \nMit historischen Bildern\, Dokumenten und Berichten von Zeitzeugen lässt Christoph Winkler die dramatischen Ereignisse dieser Jahre lebendig werden. Wie haben die Menschen das Kriegsende erlebt? Welche Folgen hatte es für die Stadt Zeil?
URL:https://www.historischervereinlandkreishassberge.de/event/vortrag-das-kriegsende-1945-in-zeil-am-main-externe-veranstaltung/
LOCATION:Rudolf-Winkler-Haus\, Schulring 3\, Zeil a. M.\, Bayern\, 97475\, Germany
END:VEVENT
END:VCALENDAR