BEGIN:VCALENDAR
VERSION:2.0
PRODID:-//Historischer Verein Landkreis Ha&szlig;berge e.V. - ECPv6.15.20//NONSGML v1.0//EN
CALSCALE:GREGORIAN
METHOD:PUBLISH
X-ORIGINAL-URL:https://www.historischervereinlandkreishassberge.de
X-WR-CALDESC:Veranstaltungen für Historischer Verein Landkreis Ha&szlig;berge e.V.
REFRESH-INTERVAL;VALUE=DURATION:PT1H
X-Robots-Tag:noindex
X-PUBLISHED-TTL:PT1H
BEGIN:VTIMEZONE
TZID:Europe/Berlin
BEGIN:DAYLIGHT
TZOFFSETFROM:+0100
TZOFFSETTO:+0200
TZNAME:CEST
DTSTART:20240331T010000
END:DAYLIGHT
BEGIN:STANDARD
TZOFFSETFROM:+0200
TZOFFSETTO:+0100
TZNAME:CET
DTSTART:20241027T010000
END:STANDARD
BEGIN:DAYLIGHT
TZOFFSETFROM:+0100
TZOFFSETTO:+0200
TZNAME:CEST
DTSTART:20250330T010000
END:DAYLIGHT
BEGIN:STANDARD
TZOFFSETFROM:+0200
TZOFFSETTO:+0100
TZNAME:CET
DTSTART:20251026T010000
END:STANDARD
BEGIN:DAYLIGHT
TZOFFSETFROM:+0100
TZOFFSETTO:+0200
TZNAME:CEST
DTSTART:20260329T010000
END:DAYLIGHT
BEGIN:STANDARD
TZOFFSETFROM:+0200
TZOFFSETTO:+0100
TZNAME:CET
DTSTART:20261025T010000
END:STANDARD
END:VTIMEZONE
BEGIN:VEVENT
DTSTART;TZID=Europe/Berlin:20250508T180000
DTEND;TZID=Europe/Berlin:20250508T200000
DTSTAMP:20260425T033544
CREATED:20250116T160700Z
LAST-MODIFIED:20250203T153403Z
UID:540-1746727200-1746734400@www.historischervereinlandkreishassberge.de
SUMMARY:Vortrag: Die Deutschordens-Hochmeister aus den Haßbergen
DESCRIPTION:Frau Dr. Katharina Kemmer\, vom Lehrstuhl für Fränkische Landesgeschichte der Universität Würzburg\, hält einen Vortrag zum Thema „Die Deutschordens-Hochmeister aus den Haßbergen\, Konrad Zollner von Rotenstein und Martin Truchseß von Wetzhausen“.
URL:https://www.historischervereinlandkreishassberge.de/event/vortrag-die-deutschordens-hochmeister-aus-den-hassbergen/
LOCATION:Gemeindehaus Kleinmünster\, Am Bach 9\, Riedbach\, BY\, 97519\, Germany
END:VEVENT
BEGIN:VEVENT
DTSTART;TZID=Europe/Berlin:20250516T180000
DTEND;TZID=Europe/Berlin:20250516T210000
DTSTAMP:20260425T033544
CREATED:20250203T152915Z
LAST-MODIFIED:20250207T142447Z
UID:560-1747418400-1747429200@www.historischervereinlandkreishassberge.de
SUMMARY:Freies Familienforscher-Treffen (Externe Veranstaltung)
DESCRIPTION:In Zeil treffen sich seit vielen Jahren regelmäßig Familienforscher aus der Region Haßberge-Steigerwald-Maintal zum Erfahrungsaustausch\, zur Entzifferung von alten Schriftstücken\, bei gleichen Ahnen zu gemeinsamen Forschungen oder zu gemeinsamen Besuchen in den auswärtigen Archiven. Diese Gesprächsrunde der Forscher ist kein Verein – die Teilnahme ist kostenlos und unverbindlich. Wer Interesse hat und einmal „schnuppern“ möchte\, ist zu den Treffs herzlich eingeladen.
URL:https://www.historischervereinlandkreishassberge.de/event/externe-veranstaltung-freies-familienforscher-treffen-4/
LOCATION:Restaurant Berninger\, Ziegelanger 33\, Zeil-Ziegelanger\, 97475
END:VEVENT
END:VCALENDAR