BEGIN:VCALENDAR
VERSION:2.0
PRODID:-//Historischer Verein Landkreis Ha&szlig;berge e.V. - ECPv6.15.20//NONSGML v1.0//EN
CALSCALE:GREGORIAN
METHOD:PUBLISH
X-WR-CALNAME:Historischer Verein Landkreis Ha&szlig;berge e.V.
X-ORIGINAL-URL:https://www.historischervereinlandkreishassberge.de
X-WR-CALDESC:Veranstaltungen für Historischer Verein Landkreis Ha&szlig;berge e.V.
REFRESH-INTERVAL;VALUE=DURATION:PT1H
X-Robots-Tag:noindex
X-PUBLISHED-TTL:PT1H
BEGIN:VTIMEZONE
TZID:Europe/Berlin
BEGIN:DAYLIGHT
TZOFFSETFROM:+0100
TZOFFSETTO:+0200
TZNAME:CEST
DTSTART:20240331T010000
END:DAYLIGHT
BEGIN:STANDARD
TZOFFSETFROM:+0200
TZOFFSETTO:+0100
TZNAME:CET
DTSTART:20241027T010000
END:STANDARD
BEGIN:DAYLIGHT
TZOFFSETFROM:+0100
TZOFFSETTO:+0200
TZNAME:CEST
DTSTART:20250330T010000
END:DAYLIGHT
BEGIN:STANDARD
TZOFFSETFROM:+0200
TZOFFSETTO:+0100
TZNAME:CET
DTSTART:20251026T010000
END:STANDARD
BEGIN:DAYLIGHT
TZOFFSETFROM:+0100
TZOFFSETTO:+0200
TZNAME:CEST
DTSTART:20260329T010000
END:DAYLIGHT
BEGIN:STANDARD
TZOFFSETFROM:+0200
TZOFFSETTO:+0100
TZNAME:CET
DTSTART:20261025T010000
END:STANDARD
END:VTIMEZONE
BEGIN:VEVENT
DTSTART;TZID=Europe/Berlin:20250704T180000
DTEND;TZID=Europe/Berlin:20250704T210000
DTSTAMP:20260425T005152
CREATED:20250203T152955Z
LAST-MODIFIED:20250207T142436Z
UID:562-1751652000-1751662800@www.historischervereinlandkreishassberge.de
SUMMARY:Freies Familienforscher-Treffen (Externe Veranstaltung)
DESCRIPTION:In Zeil treffen sich seit vielen Jahren regelmäßig Familienforscher aus der Region Haßberge-Steigerwald-Maintal zum Erfahrungsaustausch\, zur Entzifferung von alten Schriftstücken\, bei gleichen Ahnen zu gemeinsamen Forschungen oder zu gemeinsamen Besuchen in den auswärtigen Archiven. Diese Gesprächsrunde der Forscher ist kein Verein – die Teilnahme ist kostenlos und unverbindlich. Wer Interesse hat und einmal „schnuppern“ möchte\, ist zu den Treffs herzlich eingeladen.
URL:https://www.historischervereinlandkreishassberge.de/event/externe-veranstaltung-freies-familienforscher-treffen-5/
LOCATION:Restaurant Berninger\, Ziegelanger 33\, Zeil-Ziegelanger\, 97475
END:VEVENT
BEGIN:VEVENT
DTSTART;TZID=Europe/Berlin:20250706T120000
DTEND;TZID=Europe/Berlin:20250706T170000
DTSTAMP:20260425T005152
CREATED:20250617T151804Z
LAST-MODIFIED:20250626T150610Z
UID:611-1751803200-1751821200@www.historischervereinlandkreishassberge.de
SUMMARY:Tag der Franken: Vortragsreihe 500 Jahre Bauernkrieg
DESCRIPTION:Vortragsreihe: „500 Jahre Bauernkrieg – Streiflichter zu seiner Geschichte im Bereich der Haßberge“. \nIm Rahmen des Programms zum „Tag der Franken“ am Sonntag\, dem 6. Juli\, veranstaltet der Historische Verein Landkreis Haßberge im Gewölbekeller der Haßfurter Stadthalle eine Vortragsreihe zu diesem Thema. \nDrei Vorträge gehen auf Personen aus den würzburgischen Amtsstädten Ebern und Haßfurt ein: Auf der Grundlage einer historischen Akte schildert Michael Klug Taten\, Wesen und Besitz von 20 Eberner „Aufrührern“. Ergänzend hierzu stellt Christiane Tangermann die Ereignisse in und um Ebern aus der Sicht von drei Beteiligten\, sowohl von seiten der Herrschaft als auch der Bauern\, vor. Anhand der Biographien dreier Aufständischer aus Haßfurt zeigt Thomas Schindler\, was tatsächlich über deren Schicksale bekannt ist und was in der Literatur späterer Jahrhunderte hinzugedichtet wurde. Christoph Winkler berichtet schließlich am Beispiel der bambergischen Amtsburg Schmachtenberg bei Zeil am Main über die Zerstörung dieses Symbols der Macht während des Bauernkriegs. \nDie Vorträge finden in zwei Zeitblöcken statt: \n12:00 – 14:00 Uhr\nThomas Schindler (Haßfurt): „Drei Haßfurter Bauernkriegsschicksale – Dichtung und Wahrheit. Carius Heier\, Heinz von der Linden und Hans Fleischmann\, genannt Luffthanns“.\nChristoph Winkler (Zeil a. M.): „Die bischöfliche Amtsburg Schmachtenberg. Ein Beispiel für die Zerstörung eines Symbols der Macht im Bauernkrieg“. \n15:00 – 17:00 Uhr\nMichael Klug (Königsberg i. Bay.): „(Nur?) mit dem Leben davongekommen – 20 Eberner ‚Aufrührer‘: Ihre Taten\, ihr Wesen\, ihr Besitz“.\nChristiane Tangermann (Ebern): „Der Bauernkrieg in Ebern aus drei unterschiedlichen Perspektiven“. \nOrt: Haßfurt\, Gewölbekeller der Stadthalle. \nIm Gewölbekeller wird zwischen 10:00 und 17:00 Uhr auch die  Ausstellung unseres Mitglieds Bernd Reinhard „DenkMal im Wald! Kultur in der Natur“ gezeigt. Weiterhin wird es einen Informations- und Büchertisch des Vereins geben.
URL:https://www.historischervereinlandkreishassberge.de/event/tag-der-franken-vortragsreihe-500-jahre-bauernkrieg/
LOCATION:Gewölbekeller Haßfurt\, Hauptstraße 5\, Haßfurt\, Bayern\, 97437\, Germany
END:VEVENT
BEGIN:VEVENT
DTSTART;TZID=Europe/Berlin:20250726T130000
DTEND;TZID=Europe/Berlin:20250726T170000
DTSTAMP:20260425T005152
CREATED:20250616T151212Z
LAST-MODIFIED:20250616T151212Z
UID:607-1753534800-1753549200@www.historischervereinlandkreishassberge.de
SUMMARY:Vorstellung\, Kleinsteinacher Häuserbuch (Externe Veranstaltung)
DESCRIPTION:Am Samstag\, 26. Juli 2025 stellt unser Mitglied Frau Gerlinde Memmel das Buch „Kleinsteinacher Häuser und ihre Bewohner“ vor. Die Vorstellung findet zwischen 13 und 17 Uhr\, in der Alten Schule\, Obere Dorfstraße 1\, 97519 Kleinsteinach statt. Es werden Kaffee und Kuchen sowie Getränke angeboten. Das Buch kann vor Ort käuflich erworben werden.
URL:https://www.historischervereinlandkreishassberge.de/event/vorstellung-kleinsteinacher-haeuserbuch-externe-veranstaltung/
LOCATION:Alte Schule Kleinsteinach\, Obere Dorfstraße 1\, Kleinsteinach\, BY\, 97519\, Germany
END:VEVENT
END:VCALENDAR