BEGIN:VCALENDAR
VERSION:2.0
PRODID:-//Historischer Verein Landkreis Ha&szlig;berge e.V. - ECPv6.15.20//NONSGML v1.0//EN
CALSCALE:GREGORIAN
METHOD:PUBLISH
X-ORIGINAL-URL:https://www.historischervereinlandkreishassberge.de
X-WR-CALDESC:Veranstaltungen für Historischer Verein Landkreis Ha&szlig;berge e.V.
REFRESH-INTERVAL;VALUE=DURATION:PT1H
X-Robots-Tag:noindex
X-PUBLISHED-TTL:PT1H
BEGIN:VTIMEZONE
TZID:Europe/Berlin
BEGIN:DAYLIGHT
TZOFFSETFROM:+0100
TZOFFSETTO:+0200
TZNAME:CEST
DTSTART:20240331T010000
END:DAYLIGHT
BEGIN:STANDARD
TZOFFSETFROM:+0200
TZOFFSETTO:+0100
TZNAME:CET
DTSTART:20241027T010000
END:STANDARD
BEGIN:DAYLIGHT
TZOFFSETFROM:+0100
TZOFFSETTO:+0200
TZNAME:CEST
DTSTART:20250330T010000
END:DAYLIGHT
BEGIN:STANDARD
TZOFFSETFROM:+0200
TZOFFSETTO:+0100
TZNAME:CET
DTSTART:20251026T010000
END:STANDARD
BEGIN:DAYLIGHT
TZOFFSETFROM:+0100
TZOFFSETTO:+0200
TZNAME:CEST
DTSTART:20260329T010000
END:DAYLIGHT
BEGIN:STANDARD
TZOFFSETFROM:+0200
TZOFFSETTO:+0100
TZNAME:CET
DTSTART:20261025T010000
END:STANDARD
END:VTIMEZONE
BEGIN:VEVENT
DTSTART;TZID=Europe/Berlin:20250807T170000
DTEND;TZID=Europe/Berlin:20250807T210000
DTSTAMP:20260424T233051
CREATED:20250720T144439Z
LAST-MODIFIED:20250730T162037Z
UID:641-1754586000-1754600400@www.historischervereinlandkreishassberge.de
SUMMARY:Sommerreise: Besichtigung der Burgruine Zabelstein.
DESCRIPTION:Die Sommerreise setzt unsern diesjährigen Themenschwerpunkt „500 Jahre Bauernkrieg“ fort. Vom 16. bis zum 18. Mai 1525 wurde die mächtige fürstbischöfliche Burg von Aufständischen aus den Ämtern Haßfurt und Gerolzhofen belagert. Schließlich übergab der Kommandant gegen die Zusicherung freien Abzugs die Festung kampflos. Die Burg wurde anschließend geplündert und in Brand gesetzt. \nTreffpunkt ist um 16:45 Uhr am Zabelsteinparkplatz.
URL:https://www.historischervereinlandkreishassberge.de/event/sommerreise-besichtigung-der-burgruine-zabelstein/
LOCATION:Ruine Zabelstein\, Hundelshausen\, Bayern\, 97513\, Germany
END:VEVENT
BEGIN:VEVENT
DTSTART;TZID=Europe/Berlin:20250814T170000
DTEND;TZID=Europe/Berlin:20250814T210000
DTSTAMP:20260424T233051
CREATED:20250617T153354Z
LAST-MODIFIED:20250729T172945Z
UID:616-1755190800-1755205200@www.historischervereinlandkreishassberge.de
SUMMARY:Sommerreise: Christuskirche Hofheim
DESCRIPTION:Nachdem wir bereits bei früheren Sommerreisen immer wieder Kirchen besichtigt haben\, widmen wir uns in diesem Jahr der jüngeren Kirchenbaugeschichte. Die Christuskirche in Hofheim i. Ufr. mit ihrer imposanten Architektur wurde vom bekannten Architekten Olaf Andreas Gulbransson entworfen und 1965 fertig gestellt. Sie feierte im Jahr 2015 ihr 50-jähriges Bestehen und wird nun 60 Jahre alt. \nOlaf Andreas Gulbransson schuf in den 50er und 60er Jahren in Bayern eine Vielzahl an evangelischen Kirchenneubauten und auch Umbauten und galt als „Lieblingsarchitekt“ der bayerischen evangelischen Landeskirche. Weitere Beispiele in der Nähe sind etwa die evangelischen Kirchen im Schweinfurter Stadtteil Bergl\, in Poppenlauer und in Schwebheim. \nNach der Führung durch die Kirche\, kehren wir um 18 Uhr im Gasthof „Fränkischer Hof“\, Hauptstraße 4\, in Hofheim ein. \nTreffpunkt direkt an der Kirche.
URL:https://www.historischervereinlandkreishassberge.de/event/sommerreise-christuskirche-hofheim/
LOCATION:Christuskirche Hofheim\, Martin-Luther-Straße 5\, Hofheim i. Ufr.\, Bayern\, 97461\, Germany
END:VEVENT
BEGIN:VEVENT
DTSTART;TZID=Europe/Berlin:20250823T130000
DTEND;TZID=Europe/Berlin:20250823T180000
DTSTAMP:20260424T233051
CREATED:20250720T144739Z
LAST-MODIFIED:20250730T161853Z
UID:646-1755954000-1755972000@www.historischervereinlandkreishassberge.de
SUMMARY:Sommerreise: Fahrt nach Münnerstadt
DESCRIPTION:Samstag\, den 23.August\, 13 bis 14 Uhr Führung im Henneberg-Museum durch die Sonderausstellung zum Bauernkrieg. \nIn Münnerstadt und im benachbarten Kloster Bildhausen sammelte sich der sog. „Bildhäuser Bauernhaufen“\, der das Geschehen im Bereich des heutigen Landkreises Haßberge maßgeblich bestimmen sollte. Die Sonderausstellung im Verbund mit vier weiteren Museen in Thüringen zeigt den Verlauf des Aufstandes aus der Sicht der Bauern. \nAnschließend unternehmen wir einen Stadtrundgang und lassen um 16 Uhr die Veranstaltung im Café „Golden Horn“ (Veit-Stoß-Str. 21) ausklingen. \nKostenloses Parken ist auf dem „Kleinen BBZ Parkplatz“ (Bahnhofstr. 5)\, am Bahnhof selbst und dem „Parkplatz an der Laache“ (Seminarstraße) möglich. \nAchtung: Aus organisatorischen Gründen ist eine Anmeldung unter info@historischervereinlandkreishassberge.de erforderlich. Die Teilnehmerzahl ist auf 20 Personen begrenzt. Es sollen Fahrgemeinschaften gebildet werden. \n  \n 
URL:https://www.historischervereinlandkreishassberge.de/event/sommerreise-fahrt-nach-muennerstadt/
LOCATION:Hennebergmuseum\, Deutschherrnstraße 18\, Münnerstadt\, Bayern\, 97702\, Germany
END:VEVENT
BEGIN:VEVENT
DTSTART;TZID=Europe/Berlin:20250828T170000
DTEND;TZID=Europe/Berlin:20250828T210000
DTSTAMP:20260424T233051
CREATED:20250617T153502Z
LAST-MODIFIED:20250729T172927Z
UID:618-1756400400-1756414800@www.historischervereinlandkreishassberge.de
SUMMARY:Sommerreise: Synagoge Gleusdorf
DESCRIPTION:Im Zuge der „Sommerreisen“ besuchen wir die Synagoge Gleusdorf. \nIn Gleusdorf bestand eine kleine jüdische Gemeinde\, die noch in der Mitte des 19. Jahrhunderts eine neue Synagoge erbaute. 1909 mußte die Gemeinde aufgrund des Wegzugs ihrer letzten Mitglieder aufgelöst und das Synagogengebäude verkauft werden. Heute befindet sich darin eine Ausstellung zur Geschichte der Gleusdorfer Juden. \nTreffpunkt direkt an der Synagoge.
URL:https://www.historischervereinlandkreishassberge.de/event/sommerreise-synagoge-gleusdorf/
LOCATION:Synagoge Gleusdorf\, Dorfstraße 3a\, Gleusdorf\, Bayern\, 96190\, Germany
END:VEVENT
END:VCALENDAR