BEGIN:VCALENDAR
VERSION:2.0
PRODID:-//Historischer Verein Landkreis Ha&szlig;berge e.V. - ECPv6.15.20//NONSGML v1.0//EN
CALSCALE:GREGORIAN
METHOD:PUBLISH
X-ORIGINAL-URL:https://www.historischervereinlandkreishassberge.de
X-WR-CALDESC:Veranstaltungen für Historischer Verein Landkreis Ha&szlig;berge e.V.
REFRESH-INTERVAL;VALUE=DURATION:PT1H
X-Robots-Tag:noindex
X-PUBLISHED-TTL:PT1H
BEGIN:VTIMEZONE
TZID:Europe/Berlin
BEGIN:DAYLIGHT
TZOFFSETFROM:+0100
TZOFFSETTO:+0200
TZNAME:CEST
DTSTART:20240331T010000
END:DAYLIGHT
BEGIN:STANDARD
TZOFFSETFROM:+0200
TZOFFSETTO:+0100
TZNAME:CET
DTSTART:20241027T010000
END:STANDARD
BEGIN:DAYLIGHT
TZOFFSETFROM:+0100
TZOFFSETTO:+0200
TZNAME:CEST
DTSTART:20250330T010000
END:DAYLIGHT
BEGIN:STANDARD
TZOFFSETFROM:+0200
TZOFFSETTO:+0100
TZNAME:CET
DTSTART:20251026T010000
END:STANDARD
BEGIN:DAYLIGHT
TZOFFSETFROM:+0100
TZOFFSETTO:+0200
TZNAME:CEST
DTSTART:20260329T010000
END:DAYLIGHT
BEGIN:STANDARD
TZOFFSETFROM:+0200
TZOFFSETTO:+0100
TZNAME:CET
DTSTART:20261025T010000
END:STANDARD
END:VTIMEZONE
BEGIN:VEVENT
DTSTART;TZID=Europe/Berlin:20250912T180000
DTEND;TZID=Europe/Berlin:20250912T210000
DTSTAMP:20260424T221620
CREATED:20250203T153027Z
LAST-MODIFIED:20250207T142427Z
UID:564-1757700000-1757710800@www.historischervereinlandkreishassberge.de
SUMMARY:Freies Familienforscher-Treffen (Externe Veranstaltung)
DESCRIPTION:In Zeil treffen sich seit vielen Jahren regelmäßig Familienforscher aus der Region Haßberge-Steigerwald-Maintal zum Erfahrungsaustausch\, zur Entzifferung von alten Schriftstücken\, bei gleichen Ahnen zu gemeinsamen Forschungen oder zu gemeinsamen Besuchen in den auswärtigen Archiven. Diese Gesprächsrunde der Forscher ist kein Verein – die Teilnahme ist kostenlos und unverbindlich. Wer Interesse hat und einmal „schnuppern“ möchte\, ist zu den Treffs herzlich eingeladen.
URL:https://www.historischervereinlandkreishassberge.de/event/externe-veranstaltung-freies-familienforscher-treffen-6/
LOCATION:Restaurant Berninger\, Ziegelanger 33\, Zeil-Ziegelanger\, 97475
END:VEVENT
BEGIN:VEVENT
DTSTART;TZID=Europe/Berlin:20250927T150000
DTEND;TZID=Europe/Berlin:20250927T170000
DTSTAMP:20260424T221620
CREATED:20250708T160605Z
LAST-MODIFIED:20250708T160605Z
UID:627-1758985200-1758992400@www.historischervereinlandkreishassberge.de
SUMMARY:Vortrag: 950 Jahre Sailershausen - Vom Klosterdorf zum Ortsteil
DESCRIPTION:Am Samstag\, den 27.09.2025 um 15 Uhr hält Wolfgang Jäger in der Wanderstube Sailershausen einen PowerPoint-Vortrag: „950 Jahre Sailershausen – Vom Klosterdorf zum Ortsteil“. Eintritt frei.
URL:https://www.historischervereinlandkreishassberge.de/event/vortrag-950-jahre-sailershausen-vom-klosterdorf-zum-ortsteil/
LOCATION:Wanderstube Sailerhausen\, Kreisstraße 6\, Sailershausen\, Bayern\, 97437\, Germany
END:VEVENT
END:VCALENDAR