BEGIN:VCALENDAR
VERSION:2.0
PRODID:-//Historischer Verein Landkreis Ha&szlig;berge e.V. - ECPv6.15.20//NONSGML v1.0//EN
CALSCALE:GREGORIAN
METHOD:PUBLISH
X-ORIGINAL-URL:https://www.historischervereinlandkreishassberge.de
X-WR-CALDESC:Veranstaltungen für Historischer Verein Landkreis Ha&szlig;berge e.V.
REFRESH-INTERVAL;VALUE=DURATION:PT1H
X-Robots-Tag:noindex
X-PUBLISHED-TTL:PT1H
BEGIN:VTIMEZONE
TZID:Europe/Berlin
BEGIN:DAYLIGHT
TZOFFSETFROM:+0100
TZOFFSETTO:+0200
TZNAME:CEST
DTSTART:20250330T010000
END:DAYLIGHT
BEGIN:STANDARD
TZOFFSETFROM:+0200
TZOFFSETTO:+0100
TZNAME:CET
DTSTART:20251026T010000
END:STANDARD
BEGIN:DAYLIGHT
TZOFFSETFROM:+0100
TZOFFSETTO:+0200
TZNAME:CEST
DTSTART:20260329T010000
END:DAYLIGHT
BEGIN:STANDARD
TZOFFSETFROM:+0200
TZOFFSETTO:+0100
TZNAME:CET
DTSTART:20261025T010000
END:STANDARD
BEGIN:DAYLIGHT
TZOFFSETFROM:+0100
TZOFFSETTO:+0200
TZNAME:CEST
DTSTART:20270328T010000
END:DAYLIGHT
BEGIN:STANDARD
TZOFFSETFROM:+0200
TZOFFSETTO:+0100
TZNAME:CET
DTSTART:20271031T010000
END:STANDARD
END:VTIMEZONE
BEGIN:VEVENT
DTSTART;TZID=Europe/Berlin:20260501T190000
DTEND;TZID=Europe/Berlin:20260503T150000
DTSTAMP:20260424T143900
CREATED:20260311T162358Z
LAST-MODIFIED:20260311T162358Z
UID:750-1777662000-1777820400@www.historischervereinlandkreishassberge.de
SUMMARY:Archäologie in Ober- und Unterfranken 2026 (Externe Veranstaltung)
DESCRIPTION:Alle zwei Jahre findet diese Veranstaltung des Bayerischen Landesamtes für Denkmalpflege abwechselnd in Ober- und Unterfranken statt – 2026 in Bayreuth. \nAm Freitag wir es einen Abendvortrag geben\, am Samstag ist ein ganztägiges Vortragsprogramm vorgesehen\, in dem Mitarbeiter der Denkmalpflege\, Wissenschaftler von Universitäten sowie freiberufliche Archäologen und Grabungsfirmen über aktuelle Maßnahmen und Forschungsprojekte in Ober- und Unterfranken berichten. Den Tag beschließt ein weiterer Festvortrag mit Empfang. Am Sonntag folgen vormittags weitere Vorträge. Am Sonntagnachmittag findet ein archäologischer Spaziergang durch Bayreuth und das Archäologische Museum statt. \nDer interaktive Flyer mit dem Programm sowie mit Informationen zur Anmeldung hängen dieser Mail an. Eine Anmeldung bis zum 26. April 2026 ist erforderlich. Alle Informationen zur Tagung und zur Anmeldung finden auch Sie auf der Veranstaltungs-Homepage (siehe Unten).
URL:https://www.historischervereinlandkreishassberge.de/event/archaeologie-in-ober-und-unterfranken-2026-externe-veranstaltung/
LOCATION:Universität Bayreuth\, Universitätsstraße 30\, Bayreuth\, Bayern\, 95447\, Germany
END:VEVENT
BEGIN:VEVENT
DTSTART;TZID=Europe/Berlin:20260503T000000
DTEND;TZID=Europe/Berlin:20260503T235959
DTSTAMP:20260424T143900
CREATED:20251010T134614Z
LAST-MODIFIED:20251010T134614Z
UID:695-1777766400-1777852799@www.historischervereinlandkreishassberge.de
SUMMARY:Heimat.Erlebnistag 2026
DESCRIPTION:Das Bayerische Heimatministerium\, der Bayerische Landesverein für Heimatpflege und die Bezirke laden ein zum dritten bayernweiten Heimat.Erlebnistag.  \nEin Tag\, der Bayerns Vielfalt und Einzigartigkeit lebendig werden lässt! Die gemeinsame Initiative des Heimatministeriums\, des Landesvereins für Heimatpflege e.V. und der Bezirke lädt Menschen in ganz Bayern ein\, mit eigenen Veranstaltungen ihre persönliche Heimat vorzustellen. Der Tag soll erlebbar machen\, was Bayern ausmacht: einzigartige Traditionen\, Bräuche\, Dialekte\, Volksmusik\, Vereinsleben und vor allem herausragendes Engagement. Bei einem vielfältigen Angebot wollen wir gemeinsam mit den regionalen Akteuren zeigen\, wie schön und besonders unser Bayern ist. \nAuch der Historische Verein Landkreis Haßberge plant zu diesem mehrere Veranstaltungen. Weitere Informationen dazu folgen in nächster Zeit!
URL:https://www.historischervereinlandkreishassberge.de/event/heimat-erlebnistag-2026/
LOCATION:Bayern
END:VEVENT
END:VCALENDAR